Workbook

Sheet Escala valoraciones
A1: SATISFACTORIO | B1: 1
A2: CUASI SATISFACTORIO | B2: 0.7
A3: POCO SATISFACTORIO | B3: 0.35
A4: DEFICIENTE | B4: 0

Sheet Contenido
B1: COMISIÓN PERMANENTE DE PROGRAMAS DE POSGRADO
B3: Anexo 7: Rúbrica de valoración para el Modelo de Evaluación del Entorno de Aprendizaje para los programas de posgrado en el campo amplio de conocimiento de “Educación”
B6: CONTENIDO
B8: Rúbrica Programa Académico
B9: Rúbrica Cuerpo Académico
B10: Rúbrica Estudiantes y graduados
B11: Rúbrica Investigación
B12: Rúbrica Vinculación con la sociedad
B13: Rúbrica Gestión, recursos y aseguramiento de la calidad del programa
B14: Dirección de Evaluación y Acreditación de Universidades y Escuelas Politécnicas

Sheet Rub. Prog. Acad.
B1: Volver a Contenido
A3: CRITERIO | B3: SUBCRITERIO | C3: INDICADOR | D3: ESTÁNDAR | E3: ELEMENTO FUNDAMENTAL | F3: SATISFACTORIO (1) | G3: CUASI SATISFACTORIO (0,7) | H3: POCO SATISFACTORIO (0,35) | I3: DEFICIENTE (0) | J3: EQ. NUMÉRICA
A4: PROGRAMA ACADÉMICO | B4: ADMISIÓN | C4: ADMISIÓN Y/O INGRESO | D4: El programa cuenta con procesos de admisión y/o ingreso transparentes y consistentes con las políticas de admisión de la UEP, incorporan políticas de acción afirmativa, interculturalidad, inclusión e igualdad de oportunidades. Estos procesos se basan en criterios claros orientados hacia el cumplimiento del perfil de ingreso; además, deben estar planificados y contar con instrumentos pertinentes, para su ejecución y evaluación. Se consideran mecanismos de nivelación para los postulantes de los programas de posgrado que así lo requieran. | E4: 1. El programa promueve la transparencia del proceso de admisión y/o ingreso del postulante. | F4: El sitio web del programa contiene información sobre el proceso de admisión, políticas, formularios, instrumentos utilizados y los resultados del proceso de acuerdo con la política institucional. | G4: El sitio web del programa contiene información sobre el proceso de admisión, políticas, formularios, instrumentos utilizados pero no sobre los resultados del proceso de acuerdo con la política institucional. | H4: El sitio web del programa contiene solamente información sobre el proceso de admisión que incluye políticas y formularios. | I4: El sitio web del programa no cuenta con información sobre el proceso de admisión, políticas, formularios, instrumentos utilizados, así como tampoco de los resultados del proceso de acuerdo con la política institucional. | J4: =VLOOKUP(#REF!,'Escala valoraciones'!$A$1:$B$4,2,FALSE) -> #REF!
E5: 2. El proceso de admisión y/o ingreso al posgrado está alineado a las normativas institucionales, incluidas aquellas que promueven la interculturalidad y la acción afirmativa a favor de personas en condición de vulnerabilidad, grupos históricamente excluidos y grupos de atención prioritaria. | F5: El proceso de admisión responde a las normativas institucionales, incluyendo aquellas que promueven la interculturalidad, acciones afirmativas y de inclusión. | G5: El proceso de admisión responde a las normativas institucionales, incluyendo aquellas que promueven la interculturalidad, acciones afirmativas; sin embargo no considera lo relacionado con la inclusión. | H5: El proceso de admisión responde a las normativas institucionales, incluyendo aquellas que promueven la interculturalidad pero no lo relacionado con las acciones afirmativas y de inclusión. | I5: El proceso de admisión no responde a ninguna normativa o política institucional. | J5: =VLOOKUP(#REF!,'Escala valoraciones'!$A$1:$B$4,2,FALSE) -> #REF!
E6: 3. El programa declara un perfil de ingreso que incluye un conjunto de características como, por ejemplo, formación académica, requerimientos académicos, experiencia profesional, entre otros; que deben ser demostrados por los postulantes para ser admitidos al programa correspondiente. | F6: El programa presenta una declaración del perfil de ingreso que abarca diversas dimensiones, tales como formación académica, requisitos académicos y experiencia profesional. La declaración está alineada con los estándares académicos. Además, proporciona detalles específicos sobre las competencias y habilidades que se esperan de los postulantes. | G6: El programa presenta una declaración del perfil de ingreso que incluye aspectos tales como formación académica, requisitos académicos y experiencia profesional. Proporciona detalles generales sobre las competencias y habilidades que se esperan de los postulantes. | H6: El programa presenta una declaración del perfil de ingreso que incluye aspectos tales como formación académica, requisitos académicos y experiencia profesional . No proporciona detalles sobre las competencias y habilidades que se esperan de los postulantes. | I6: El programa no exige que los postulantes demuestren que cumplen con el perfil de ingreso declarado. | J6: =VLOOKUP(#REF!,'Escala valoraciones'!$A$1:$B$4,2,FALSE) -> #REF!
E7: 4.Los instrumentos para el proceso de admisión y/o ingreso como entrevistas, cartas de recomendación, cartas de motivación, propuesta de investigación, exámenes, entre otros, permiten evaluar el cumplimiento del perfil de ingreso declarado por el programa. | F7: El programa utiliza una variedad de instrumentos de evaluación, como entrevistas estructuradas, cartas de recomendación, cartas de motivación, propuestas de investigación y exámenes especializados. Estos instrumentos están diseñados para determinar que los postulantes cumplan de manera específica con el perfil de ingreso. | G7: El programa utiliza una variedad de instrumentos de evaluación, como entrevistas estructuradas, cartas de recomendación, cartas de motivación, propuestas de investigación y exámenes especializados. Estos instrumentos están diseñados para determinar que los postulantes cumplan de manera general con el perfil de ingreso. | H7: El programa utiliza instrumentos de evaluación en su proceso de admisión y/o ingreso, sin embargo, estos no están diseñados para determinar si los postulantes cumplen con el perfil de ingreso. | I7: El programa no cuenta con instrumentos de evaluación para su proceso de admisión y/o ingreso | J7: =VLOOKUP(#REF!,'Escala valoraciones'!$A$1:$B$4,2,FALSE) -> #REF!
E8: 5. La admisión y/o ingreso de los postulantes es el resultado de la aplicación rigurosa y transparente de los lineamientos establecidos e instrumentos de evaluación utilizados tales como: rúbricas, listas de cotejo, guías de evaluación, entre otros. | F8: El programa demuestra un proceso de admisión riguroso y transparente, aplicando los lineamientos establecidos. Utiliza rúbricas, listas de cotejo, guías de evaluación u otros instrumentos de evaluación específicos para cada fase del proceso. | G8: El programa demuestra un proceso de admisión riguroso y transparente, aplicando los lineamientos establecidos. No se evidencia la utilización de rúbricas, listas de cotejo, guías de evaluación u otros instrumentos de evaluación específicos para cada fase del proceso. | H8: El programa demuestra un proceso de admisión riguroso y transparente, sin embargo, no se evidencia la aplicación de los lineamientos establecidos ni la utilización de rúbricas, listas de cotejo, guías de evaluación u otros instrumentos de evaluación específicos para cada fase del proceso. | I8: El programa no demuestra un proceso de admisión que sea riguroso y transparente. | J8: =VLOOKUP(#REF!,'Escala valoraciones'!$A$1:$B$4,2,FALSE) -> #REF!
E9: 6. En los programas que lo requieran, las asignaturas, cursos, módulos o equivalentes de nivelación para los postulantes de los programas de posgrado deben aportar al cumplimiento del perfil de ingreso y los objetivos del programa. | F9: Las asignaturas, cursos, módulos o equivalentes de nivelación están diseñados para contribuir al cumplimiento del perfil de ingreso y los objetivos del programa. | G9: Las asignaturas, cursos, módulos o equivalentes de nivelación están diseñados para contribuir al cumplimiento del perfil de ingreso, sin embargo, no se evidencia alineación con los objetivos del programa. | H9: Las asignaturas, cursos, módulos o equivalentes de nivelación no contribuyen al cumplimiento del perfil de ingreso y no se evidencia alineación con los objetivos del programa. | I9: El programa no cuenta con asignaturas, cursos, módulos o equivalentes de nivelación a pesar de requerirlo. | J9: =VLOOKUP(#REF!,'Escala valoraciones'!$A$1:$B$4,2,FALSE) -> #REF!
B11: DISEÑO CURRICULAR E IMPLEMENTACIÓN | C11: PERFIL DE EGRESO | D11: El perfil de egreso es público, establece de manera clara los resultados de aprendizaje alcanzados por los estudiantes que culminen el programa. Además, este perfil responde a las demandas sociales y profesionales del campo de la educación. Se evalúa, revisa o actualiza involucrando a los diferentes grupos de interés del programa. | E11: 1. El perfil de egreso cuenta con un proceso de construcción que considera los requerimientos de las demandas sociales y profesionales del campo educativo. | F11: El programa demuestra la ejecución de un proceso estructurado para la construcción del perfil de egreso, el cual considera los requerimientos de las demandas sociales y profesionales del campo educativo. | G11: El programa demuestra la ejecución de un proceso para la construcción del perfil de egreso, el cual considera los requerimientos de las demandas sociales del campo educativo, sin embargo, no se evidencia que considere las demandas profesionales. | H11: El proceso de construcción del perfil de egreso no considera los requerimientos de las demandas sociales ni profesionales. | I11: El programa no cuenta con un proceso de construcción de su perfil de egreso. | J11: =VLOOKUP(#REF!,'Escala valoraciones'!$A$1:$B$4,2,FALSE) -> #REF!
E12: 2. El perfil de egreso determina de manera específica, los resultados de aprendizaje que se espera de los estudiantes en función de las necesidades y tendencias del sector de la educación. | F12: El perfil de egreso del programa especifica de manera detallada los resultados de aprendizaje esperados de los estudiantes. Estos resultados están vinculados a las necesidades y tendencias identificadas en el sector de la educación, lo cual refleja un entendimiento de las competencias y habilidades requeridas por los profesionales en el campo. | G12: El perfil de egreso del programa determina de manera general los resultados de aprendizaje esperados de los estudiantes. Estos resultados están vinculados a las necesidades, sin embargo, no se evidencia que considere las tendencias identificadas en el sector de la educación. | H12: El perfil de egreso del programa determina de manera general los resultados de aprendizaje esperados de los estudiantes, sin embargo, estos no están vinculados a las necesidades ni a las tendencias identificadas en el sector de la educación. | I12: El perfil de egreso no determina de manera general ni específica los resultados de aprendizaje esperados de los estudiantes. . | J12: =VLOOKUP(#REF!,'Escala valoraciones'!$A$1:$B$4,2,FALSE) -> #REF!
E13: 3. Cada asignatura, curso, módulo o equivalente que se imparte en el programa contribuye al logro del perfil de egreso. | F13: Cada asignatura, curso, módulo o equivalente del programa se diseña para contribuir al logro del perfil de egreso. La estructura y contenido de las asignaturas contribuyen al logro de los resultados de aprendizaje y la adquisición de las competencias requeridas. | G13: Cada asignatura, curso, módulo o equivalente del programa se diseña para contribuir al logro del perfil de egreso. La estructura y contenido de las asignaturas contribuyen al logro de los resultados de aprendizaje pero no a la adquisición de las competencias requeridas. | H13: Cada asignatura, curso, módulo o equivalente del programa se diseña para contribuir al logro del perfil de egreso. Sin embargo, existen deficiencias en cuanto a la estructura y contenido de las asignaturas, por lo que no se puede evidenciar que contribuyan al logro de los resultados de aprendizaje ni a la adquisición de las competencias requeridas. | I13: No se puede evidenciar que cada asignatura, curso, módulo o equivalente del programa contribuya al logro del perfil de egreso. Por ende, tampoco se puede evidenciar que contribuyan al logro de los resultados de aprendizaje ni a la adquisición de las competencias requeridas. | J13: =VLOOKUP(#REF!,'Escala valoraciones'!$A$1:$B$4,2,FALSE) -> #REF!
E14: 4. Existen procesos de evaluación de los resultados del perfil de egreso para su revisión o actualización considerando la participación de grupos de interés del programa: graduados, estudiantes, profesores, empleadores, entre otros. | F14: El programa cuenta con procesos sistemáticos de evaluación de los resultados del perfil de egreso. Estos incluyen mecanismos para la revisión o actualización periódica, con la participación de grupos de interés clave como graduados, estudiantes, profesores y empleadores. La retroalimentación de estos grupos se integra en la mejora continua del perfil de egreso. | G14: El programa cuenta con procesos de evaluación de los resultados del perfil de egreso. Estos incluyen mecanismos para la revisión o actualización periódica, con la participación de grupos de interés clave como graduados, estudiantes, profesores y empleadores, sin embargo, no se considera la retroalimentación de estos grupos para la mejora continua del perfil de egreso. | H14: El programa cuenta con procesos de evaluación de los resultados del perfil de egreso. Estos procesos incluyen mecanismos para la revisión y actualización periódica, pero no se evidencia la participación de grupos de interés clave como graduados, estudiantes, profesores y empleadores. | I14: El programa cuenta con procesos de evaluación de los resultados del perfil de egreso, sin embargo, estos procesos no incluyen mecanismos para la revisión o actualización periódica ni se evidencia la participación de grupos de interés. | J14: =VLOOKUP(#REF!,'Escala valoraciones'!$A$1:$B$4,2,FALSE) -> #REF!
E15: 5. El perfil de egreso está disponible a través de medios oficiales de la UEP para la comunidad académica, profesionales y la sociedad, en el que se detallan las competencias, habilidades, conocimientos, entre otros, que se adquiere al concluir el programa. | F15: El perfil de egreso del programa está accesible a través de medios oficiales de la UEP. El documento proporciona detalles específicos sobre competencias, habilidades, conocimientos y otros aspectos adquiridos al concluir el programa. La información es completa y disponible para la comunidad académica, profesionales y la sociedad en general. | G15: El perfil de egreso del programa está accesible a través de medios oficiales de la UEP. El documento proporciona información general sobre competencias, habilidades, conocimientos y otros aspectos adquiridos al concluir el programa. La información es completa y disponible para la comunidad académica y los profesionales. | H15: El perfil de egreso del programa está accesible a través de medios oficiales de la UEP. El documento proporciona información general sobre competencias, habilidades, conocimientos y otros aspectos adquiridos al concluir el programa. La información está disponible únicamente para la comunidad académica. | I15: El perfil de egreso del programa está accesible a través de medios oficiales de la UEP, no obstante, este no proporciona información sobre competencias, habilidades, conocimientos y otros aspectos adquiridos al concluir el programa. | J15: =VLOOKUP(#REF!,'Escala valoraciones'!$A$1:$B$4,2,FALSE) -> #REF!
E16: Para el caso de programas de doctorado, además se considera lo siguiente: 6. El programa declara competencias investigativas, comunicativas y aquellas requeridas para la comprensión de la Educación. | F16: El programa presenta una declaración de competencias que abarca aspectos investigativos, comunicativos y aquellos esenciales para la comprensión de la Educación. Estas competencias están definidas y alineadas con los estándares del campo. | G16: El programa presenta una declaración de competencias que abarca aspectos investigativos, comunicativos y aquellos esenciales para la comprensión de la Educación. Estas competencias están definidas; sin embargo no se evidencia que estén alineadas con los estándares del campo. | H16: El programa presenta una declaración de competencias que abarca aspectos investigativos, comunicativos y aquellos esenciales para la comprensión de la Educación. No obstante, estas competencias no están definidas y no se evidencia que estén alineadas con los estándares del campo. | I16: El programa presenta una declaración de competencias, pero, no se evidencia que abarque aspectos investigativos, comunicativos y aquellos esenciales para la comprensión de la Educación. | J16: =VLOOKUP(#REF!,'Escala valoraciones'!$A$1:$B$4,2,FALSE) -> #REF!
C18: PLAN DE ESTUDIOS O CURRÍCULO | D18: El plan de estudios o currículo considera el logro de los resultados de aprendizaje del perfil de egreso, a través de las asignaturas, cursos, módulos o equivalentes, demostrando la integración de actividades de aprendizaje; contempla la posibilidad de realizar estancias o actividades articuladas a estrategias de movilidad institucional, acordes con el campo de conocimiento de Educación, nivel de formación y modalidad de estudios. Cuenta con mecanismos para su diseño, revisión o actualización y seguimiento. | E18: 1. El diseño del plan de estudios o currículo se lo realiza en procesos participativos e involucra académicos y profesionales con experiencia en el campo de conocimiento del programa y hay coherencia de éste con el modelo educativo y/o pedagógico institucional. | F18: El diseño del plan de estudios o currículo se lleva a cabo mediante procesos participativos, involucrando a académicos y profesionales con experiencia en el campo de conocimiento del programa y existe coherencia con el modelo educativo y/o pedagógico institucional. | G18: El diseño del plan de estudios o currículo se lleva a cabo mediante procesos participativos, involucrando a académicos y profesionales con experiencia en el campo de conocimiento del programa, sin embargo, no se puede evidenciar que exista coherencia con el modelo educativo y/o pedagógico institucional. | H18: El diseño del plan de estudios o currículo se lleva a cabo mediante procesos participativos, involucrando a académicos, pero no a profesionales con experiencia en el campo de conocimiento del programa y no se evidencia que exista coherencia con el modelo educativo y/o pedagógico institucional. | I18: El diseño del plan de estudios o currículo no se realiza mediante procesos participativos y no existe coherencia con el modelo educativo y/o pedagógico institucional. | J18: =VLOOKUP(#REF!,'Escala valoraciones'!$A$1:$B$4,2,FALSE) -> #REF!
E19: 2. El plan de estudios o currículo demuestra coherencia entre los objetivos y resultados de aprendizaje de las asignaturas, cursos, módulos o equivalentes con el perfil de egreso. Además, demuestra integración de los contenidos en función del propósito de las asignaturas. | F19: Se evidencia que en el plan de estudios o currículo existe coherencia entre los objetivos y resultados de aprendizaje de las asignaturas, cursos, módulos o equivalentes con el perfil de egreso. Existe integración de los contenidos en función del propósito de las asignaturas. | G19: Se evidencia que en el plan de estudios o currículo existe coherencia entre los objetivos y resultados de aprendizaje de las asignaturas, cursos, módulos o equivalentes con el perfil de egreso. No obstante, no se puede evidenciar que existe integración de los contenidos en función del propósito de las asignaturas. | H19: Se evidencia que en el plan de estudios o currículo existe coherencia entre los objetivos de las asignaturas, cursos, módulos o equivalentes con el perfil de egreso, sin embargo, no existe coherencia con los resultados de aprendizaje. Además, no se puede evidenciar que exista integración de los contenidos en función del propósito de las asignaturas. | I19: Se evidencia que en el plan de estudios o currículo no existe coherencia entre los objetivos y resultados de aprendizaje de las asignaturas, cursos, módulos o equivalentes con el perfil de egreso. Además, no se puede evidenciar que existe integración de los contenidos en función del propósito de las asignaturas. | J19: =VLOOKUP(#REF!,'Escala valoraciones'!$A$1:$B$4,2,FALSE) -> #REF!
E20: 3. El plan de estudios o currículo organiza los contenidos considerando niveles de complejidad progresivos que permiten la interconexión entre ellos y el logro de los resultados de aprendizaje del perfil de egreso. | F20: La organización de contenidos del plan de estudios o currículo considera niveles de complejidad progresivos que facilitan la interconexión entre ellos y el logro de los resultados de aprendizaje del perfil de egreso. | G20: La organización de contenidos del plan de estudios o currículo considera niveles de complejidad progresivos que posibilitan la interconexión entre ellos pero no se evidencia que permitan el logro de los resultados de aprendizaje del perfil de egreso. | H20: La organización de contenidos del plan de estudios o currículo considera niveles de complejidad progresivos pero que no posibilitan la interconexión entre ellos ni permiten el logro de los resultados de aprendizaje del perfil de egreso. | I20: La organización de contenidos del plan de estudios o currículo no considera niveles de complejidad progresivos lo cual dificulta la interconexión entre ellos y no permite el logro de los resultados de aprendizaje del perfil de egreso. | J20: =VLOOKUP(#REF!,'Escala valoraciones'!$A$1:$B$4,2,FALSE) -> #REF!
E21: 4. El plan de estudios o currículo está articulado con los objetivos del programa y sus metas; así como, con las líneas de investigación y con los resultados de aprendizaje declarados en el perfil de egreso. | F21: El plan de estudios o currículo está articulado con: objetivos del programa y sus metas; líneas de investigación; y resultados de aprendizaje declarados en el perfil de egreso. | G21: El plan de estudios o currículo está articulado con: objetivos del programa y sus metas; y, líneas de investigación. | H21: El plan de estudios o currículo está articulado únicamente con los objetivos del programa y sus metas | I21: El plan de estudios o currículo no está articulado con los objetivos del programa y sus metas, las líneas de investigación ni con los resultados de aprendizaje declarados en el perfil de egreso. | J21: =VLOOKUP(#REF!,'Escala valoraciones'!$A$1:$B$4,2,FALSE) -> #REF!
E22: 5. El plan de estudios o currículo incluye en su formulación metodologías de enseñanza-aprendizaje alineadas con el modelo educativo y/o pedagógico institucional que aseguran el desarrollo del perfil de egreso. | F22: El plan de estudios o currículo incluye metodologías de enseñanza-aprendizaje definidas, las cuales se encuentran alineadas con el modelo educativo y/o pedagógico institucional. Estas metodologías aseguran el desarrollo del perfil de egreso, proporcionando experiencias de aprendizaje que promueven la adquisición de competencias y habilidades. | G22: El plan de estudios o currículo incluye metodologías de enseñanza-aprendizaje definidas, las cuales se encuentran alineadas con el modelo educativo y/o pedagógico institucional. Estas metodologías contribuyen al desarrollo del perfil de egreso, sin embargo, no proporcionan experiencias de aprendizaje que promuevan la adquisición de competencias y habilidades. | H22: El plan de estudios o currículo incluye metodologías de enseñanza-aprendizaje, las cuales no se encuentran alineadas con el modelo educativo y/o pedagógico institucional y por lo tanto no contribuyen al desarrollo del perfil de egreso ni proporcionan experiencias de aprendizaje que promuevan la adquisición de competencias y habilidades. | I22: El plan de estudios o currículo no incluye metodologías de enseñanza-aprendizaje. | J22: =VLOOKUP(#REF!,'Escala valoraciones'!$A$1:$B$4,2,FALSE) -> #REF!
E23: 6. El plan de estudios o currículo implica el uso de la tecnopedagogía como enfoque didáctico. | F23: El plan de estudios o currículo incorpora el uso de la tecnopedagogía como enfoque didáctico. Esta incorporación se realiza de manera sistemática en todas las etapas del plan de estudios. | G23: El plan de estudios o currículo incorpora el uso de la tecnopedagogía como enfoque didáctico. Esta incorporación se realiza de manera sistemática en las etapas iniciales del plan de estudios. | H23: El plan de estudios o currículo incorpora el uso de la tecnopedagogía como enfoque didáctico. Esta incorporación no se realiza de manera sistemática en las etapas del plan de estudios. | I23: El plan de estudios o currículo no incorpora el uso de la tecnopedagogía como enfoque didáctico. | J23: =VLOOKUP(#REF!,'Escala valoraciones'!$A$1:$B$4,2,FALSE) -> #REF!
E24: 7. El plan de estudios o currículo contempla estrategias institucionales que propicien la movilidad nacional e internacional para el fortalecimiento de las capacidades declaradas en el perfil de egreso. | F24: El plan de estudios o currículo contempla estrategias institucionales que propician la movilidad nacional e internacional para el fortalecimiento de las capacidades declaradas en el perfil de egreso. Las estrategias de movilidad se alinean con los objetivos del programa. | G24: El plan de estudios o currículo contempla estrategias institucionales que propician la movilidad nacional e internacional para el fortalecimiento de las capacidades declaradas en el perfil de egreso. Las estrategias de movilidad no se alinean con los objetivos del programa. | H24: El plan de estudios o currículo contempla estrategias institucionales que propician la movilidad nacional e internacional, sin embargo, estas no contribuyen al fortalecimiento de las capacidades declaradas en el perfil de egreso. Además, las estrategias de movilidad no se alinean con los objetivos del programa. | I24: El plan de estudios o currículo no contempla estrategias institucionales que propicien la movilidad nacional e internacional. | J24: =VLOOKUP(#REF!,'Escala valoraciones'!$A$1:$B$4,2,FALSE) -> #REF!
E25: 8. Existen procesos para la revisión o actualización del plan de estudios o currículo mediante ajustes sustantivos y/o no sustantivos, que consideran la participación de grupos de interés del programa: graduados, estudiantes, profesores, empleadores, entre otros. | F25: Existen procesos sistemáticos para la revisión o actualización del plan de estudios o currículo, que consideran ajustes sustantivos y/o no sustantivos. Existe participación de grupos de interés del programa, incluyendo graduados, estudiantes, profesores y empleadores y su retroalimentación se utiliza para la mejora continua. | G25: Existen procesos sistemáticos para la revisión o actualización del plan de estudios o currículo, que consideran ajustes sustantivos y/o no sustantivos. Existe participación de grupos de interés del programa, incluyendo graduados, estudiantes, profesores y empleadores, pero su retroalimentación no se utiliza para la mejora continua. | H25: Existen procesos sistemáticos para la revisión o actualización del plan de estudios o currículo, que consideran ajustes sustantivos y/o no sustantivos. No existe participación de grupos de interés del programa (graduados, estudiantes, profesores y empleadores). | I25: No existen procesos sistemáticos para la revisión o actualización del plan de estudios o currículo, que consideren ajustes sustantivos y/o no sustantivos. No existe participación de grupos de interés del programa (graduados, estudiantes, profesores y empleadores). | J25: =VLOOKUP(#REF!,'Escala valoraciones'!$A$1:$B$4,2,FALSE) -> #REF!
C27: SYLLABUS | D27: El syllabus de cada asignatura, curso, módulo o su equivalente contribuye al cumplimiento del perfil de egreso, guarda relación con el plan de estudios o currículo y garantiza el logro de los resultados de aprendizaje. Se difunde a los estudiantes de manera oportuna y existen mecanismos para monitorear su ejecución y actualización. | E27: 1. Los resultados de aprendizaje de las asignaturas, cursos, módulos o sus equivalentes que constan en el syllabus, son afirmaciones verificables de lo que un estudiante debe conocer, comprender y ser capaz de hacer luego de cursarla. | F27: Los resultados de aprendizaje son afirmaciones verificables de lo que un estudiante debe conocer, comprender y ser capaz de hacer luego de cursar una asignatura, curso, módulo o su equivalente. | G27: Los resultados de aprendizaje son afirmaciones verificables que abarcan dos de los siguientes aspectos: lo que un estudiante debe conocer, comprender y ser capaz de hacer luego de cursar una asignatura, curso, módulo o su equivalente. | H27: Los resultados de aprendizaje son afirmaciones verificables que abarcan solo uno de los siguientes aspectos: lo que un estudiante debe conocer, comprender y ser capaz de hacer luego de cursar una asignatura, curso, módulo o su equivalente. | I27: Los resultados de aprendizaje no contemplan ninguno de los siguientes aspectos: lo que un estudiante debe conocer, comprender y ser capaz de hacer luego de cursar una asignatura, curso, módulo o su equivalente. | J27: =VLOOKUP(#REF!,'Escala valoraciones'!$A$1:$B$4,2,FALSE) -> #REF!
E28: 2. El syllabus de la asignatura, curso, módulo o equivalente muestra una relación coherente con el modelo educativo y/o pedagógico institucional, el perfil de egreso y el plan de estudios o currículo. | F28: El syllabus muestra una relación coherente con el modelo educativo y/o pedagógico institucional, el perfil de egreso y el plan de estudios o currículo. | G28: El syllabus muestra una relación coherente con el modelo educativo y/o pedagógico institucional y con el perfil de egreso. | H28: El syllabus muestra una relación coherente únicamente con el modelo educativo y/o pedagógico institucional. | I28: El syllabus no muestra una relación coherente con el modelo educativo y/o pedagógico institucional, el perfil de egreso ni con el plan de estudios o currículo. | J28: =VLOOKUP(#REF!,'Escala valoraciones'!$A$1:$B$4,2,FALSE) -> #REF!
E29: 3. El syllabus muestra mecanismos, procesos y/o procedimientos para el desarrollo de los componentes de organización del aprendizaje (en contacto con el docente, autónomo y práctico experimental) de las asignaturas, cursos, módulos o sus equivalentes de acuerdo con la modalidad de estudio del programa. | F29: El syllabus de las asignaturas, cursos, módulos o sus equivalentes muestra mecanismos, procesos y/o procedimientos para el desarrollo de los componentes de organización del aprendizaje (en contacto con el docente, autónomo y práctico experimental) de acuerdo con la modalidad de estudio del programa. | G29: El syllabus de las asignaturas, cursos, módulos o sus equivalentes muestra mecanismos, procesos y/o procedimientos para el desarrollo de los componentes de organización del aprendizaje (en contacto con el docente y autónomo pero no práctico experimental) de acuerdo con la modalidad de estudio del programa. | H29: El syllabus de las asignaturas, cursos, módulos o sus equivalentes muestra mecanismos, procesos y/o procedimientos para el desarrollo de los componentes de organización del aprendizaje (en contacto con el docente, pero no autónomo ni práctico experimental) de acuerdo con la modalidad de estudio del programa. | I29: El syllabus de las asignaturas, cursos, módulos o sus equivalentes muestra mecanismos, procesos y/o procedimientos para el desarrollo de los componentes de organización del aprendizaje (únicamente en contacto con el docente) que no están de acuerdo con la modalidad de estudio del programa. | J29: =VLOOKUP(#REF!,'Escala valoraciones'!$A$1:$B$4,2,FALSE) -> #REF!
E30: 4. El syllabus es público y accesible para estudiantes y profesores del programa y, existen mecanismos de difusión a los estudiantes antes del inicio del periodo de clases. | F30: El syllabus es público y accesible para estudiantes y profesores del programa. Se implementan mecanismos efectivos para la difusión del syllabus a los estudiantes antes del inicio del periodo de clases. | G30: El syllabus es público y accesible para estudiantes y profesores del programa. Se han implementado mecanismos para la difusión del syllabus a los estudiantes, pero posterior al inicio del periodo de clases. | H30: El syllabus es público y accesible para estudiantes y profesores del programa. No se han implementado mecanismos para la difusión del syllabus a los estudiantes. | I30: El syllabus no es público ni accesible para estudiantes y profesores del programa y no se han implementado mecanismos para su difusión. | J30: =VLOOKUP(#REF!,'Escala valoraciones'!$A$1:$B$4,2,FALSE) -> #REF!
E31: 5. Las estrategias de evaluación planificadas en el syllabus de cada asignatura, curso, módulos o equivalentes guardan relación con los resultados de aprendizaje y utilizan instrumentos de evaluación acordes con la actividad prevista. | F31: Las estrategias de evaluación planificadas en el syllabus de cada asignatura, curso, módulos o equivalentes están relacionadas con los resultados de aprendizaje. Se utilizan instrumentos de evaluación acorde con las actividades previstas y orientados al cumplimiento de los objetivos de aprendizaje. | G31: Las estrategias de evaluación planificadas en el syllabus de cada asignatura, curso, módulos o equivalentes están relacionadas con los resultados de aprendizaje. Se utilizan instrumentos de evaluación acorde con las actividades previstas pero que no están orientados al cumplimiento de los objetivos de aprendizaje. | H31: Las estrategias de evaluación planificadas en el syllabus de cada asignatura, curso, módulos o equivalentes están relacionadas con los resultados de aprendizaje. Los instrumentos de evaluación utilizados no están acorde con las actividades previstas ni orientados al cumplimiento de los objetivos de aprendizaje. | I31: Las estrategias de evaluación planificadas en el syllabus de cada asignatura, curso, módulos o equivalentes no están relacionadas con los resultados de aprendizaje. Los instrumentos de evaluación utilizados no están acorde con las actividades previstas ni orientados al cumplimiento de los objetivos de aprendizaje. | J31: =VLOOKUP(#REF!,'Escala valoraciones'!$A$1:$B$4,2,FALSE) -> #REF!
E32: Para los programas en línea, a distancia o híbridos, además contemplará: 6. El diseño instruccional de la asignatura, cursos, módulos o equivalentes da cuenta del desarrollo de las actividades de enseñanza-aprendizaje. | F32: El diseño instruccional da cuenta del desarrollo de las actividades de enseñanza-aprendizaje. Existe una planificación que integra estrategias pedagógicas, recursos educativos y evaluación. El diseño es coherente con los objetivos de aprendizaje y el perfil de egreso. | G32: El diseño instruccional da cuenta del desarrollo de las actividades de enseñanza-aprendizaje. Existe una planificación que integra estrategias pedagógicas, recursos educativos y evaluación. El diseño guarda coherencia con los objetivos de aprendizaje pero no con el perfil de egreso. | H32: El diseño instruccional da cuenta del desarrollo de las actividades de enseñanza-aprendizaje. Existe una planificación que integra estrategias pedagógicas, recursos educativos y evaluación. El diseño no guarda coherencia con los objetivos de aprendizaje ni con el perfil de egreso. | I32: El diseño instruccional da cuenta del desarrollo de las actividades de enseñanza-aprendizaje. Sin embargo, no existe una planificación que integre estrategias pedagógicas, recursos educativos ni evaluación. El diseño no guarda coherencia con los objetivos de aprendizaje ni con el perfil de egreso. | J32: =VLOOKUP(#REF!,'Escala valoraciones'!$A$1:$B$4,2,FALSE) -> #REF!
E33: 7. El programa cuenta con guías didácticas específicas, recursos multimedia y recursos en la web que apoyan el desarrollo de las actividades planificadas y el logro de los objetivos de las asignaturas en concordancia con el modelo pedagógico. | F33: El programa cuenta con guías didácticas específicas, recursos multimedia y recursos en la web para apoyar el desarrollo de las actividades planificadas y el logro de los objetivos de las asignaturas, todo esto en correspondencia con el modelo pedagógico. | G33: El programa cuenta con guías didácticas específicas, recursos multimedia y recursos en la web para apoyar el desarrollo de las actividades planificadas y el logro de los objetivos de las asignaturas; sin embargo no se evidencia la correspondencia con el modelo pedagógico. | H33: El programa cuenta con guías didácticas específicas, recursos multimedia y recursos en la web para apoyar el desarrollo de las actividades planificadas; sin embargo no se evidencia la contribución al logro de los objetivos de las asignaturas ni la correspondencia con el modelo pedagógico. | I33: El programa cuenta con guías didácticas específicas, recursos multimedia y recursos en la web, sin embargo, no se evidencia que estos apoyen el desarrollo de las actividades planificadas, su contribución al logro de los objetivos de las asignaturas, ni que todo esto esté en correspondencia con el modelo pedagógico. | J33: =VLOOKUP(#REF!,'Escala valoraciones'!$A$1:$B$4,2,FALSE) -> #REF!
B35: TITULACIÓN | C35: PROCESO DE TITULACIÓN | D35: El programa de posgrado se articula con las políticas institucionales y ejecuta procesos o procedimientos de titulación transparentes que contribuyen al logro de los resultados del perfil de egreso definido, los mismos que incluyen tutorías o acompañamiento continuo al estudiante. La ejecución de las políticas y procedimientos es evaluada y monitoreada periódicamente. | E35: 1. La institución cuenta con procesos, procedimientos, guías o instructivos, entre otros, para el desarrollo de los procesos de titulación del posgrado. | F35: La institución cuenta con procesos, procedimientos, guías o instructivos para el desarrollo de los procesos de titulación del programa de posgrado. Estos documentos son conocidos por los miembros de la comunidad académica y constan en el sitio web del programa. | G35: La institución cuenta con procesos, procedimientos, guías o instructivos para el desarrollo de los procesos de titulación del programa de posgrado. Estos documentos son conocidos por los miembros de la comunidad académica pero no constan en el sitio web del programa. | H35: La institución cuenta con procesos, procedimientos, guías o instructivos para el desarrollo de los procesos de titulación del programa de posgrado. Estos documentos no son conocidos por los miembros de la comunidad académica ni constan en el sitio web del programa. | I35: La institución no cuenta con procesos, procedimientos, guías o instructivos para el desarrollo de los procesos de titulación del programa de posgrado. | J35: =VLOOKUP(#REF!,'Escala valoraciones'!$A$1:$B$4,2,FALSE) -> #REF!
E36: 2. El programa define mecanismos para la asignación de tutores para el proceso de titulación. En el caso de programas de doctorado, deberá contemplarse lo establecido en la normativa vigente. | F36: El programa define de manera específica, mecanismos para la asignación de tutores en el proceso de titulación. Estos mecanismos garantizan que se asigne un tutor para cada estudiante. En el caso de programas de doctorado, se respeta lo establecido en la normativa vigente. | G36: El programa define de manera general, mecanismos para la asignación de tutores en el proceso de titulación. Estos mecanismos, sin embargo, no garantizan que se asigne un tutor para cada estudiante. En el caso de programas de doctorado, se respeta lo establecido en la normativa vigente. | H36: El programa no cuenta con mecanismos para la asignación de tutores en el proceso de titulación. En el caso de programas de doctorado, se respeta lo establecido en la normativa vigente. | I36: El programa no realiza la asignación de tutores en el proceso de titulación. En el caso de programas de doctorado, no se respeta lo establecido en la normativa vigente. | J36: =VLOOKUP(#REF!,'Escala valoraciones'!$A$1:$B$4,2,FALSE) -> #REF!
E37: 3. El cumplimiento de las políticas y procedimientos de titulación es evaluado y monitoreado con la periodicidad establecida por la UEP. | F37: La UEP ha establecido la periodicidad para la evaluación y monitoreo del cumplimiento de las políticas y procedimientos de titulación. | G37: La UEP ha establecido la periodicidad para la evaluación pero no para el monitoreo del cumplimiento de las políticas y procedimientos de titulación. | H37: La UEP no ha establecido la periodicidad para la evaluación ni para el monitoreo del cumplimiento de las políticas y procedimientos de titulación. | I37: La UEP no realiza la evaluación ni el monitoreo del cumplimiento de las políticas y procedimientos de titulación. | J37: =VLOOKUP(#REF!,'Escala valoraciones'!$A$1:$B$4,2,FALSE) -> #REF!

Sheet Rub. Cuerpo Acad. 
B1: Volver a Contenido
A3: CRITERIO | B3: SUBCRITERIO | C3: INDICADOR | D3: ESTÁNDAR | E3: ELEMENTO FUNDAMENTAL | F3: SATISFACTORIO (1) | G3: CUASI SATISFACTORIO (0,7) | H3: POCO SATISFACTORIO (0,35) | I3: DEFICIENTE (0)
A4: CUERPO ACADÉMICO | B4: SUFICIENCIA Y COMPOSICIÓN | C4: PERFIL ACADÉMICO DEL PROFESOR | D4: El cuerpo académico tiene formación de posgrado afín con las asignaturas, cursos, módulos o equivalentes, experiencia académica e investigativa. En el caso de los profesores vinculados con el programa, la instancia institucional correspondiente desarrolla un proceso de selección que garantiza la pertinencia del perfil del cuerpo académico. | E4: 1. El programa ejecuta un proceso ordenado, abierto y transparente para seleccionar e incorporar a los integrantes de su cuerpo académico, de acuerdo con los requisitos establecidos institucionalmente y alineado a la normativa de educación superior, que garantiza la igualdad de oportunidades. | F4: El programa ejecuta un proceso ordenado, abierto y transparente para seleccionar e incorporar a los integrantes de su cuerpo académico, de acuerdo con los requisitos establecidos institucionalmente y alineado a la normativa de educación superior, que garantiza la igualdad de oportunidades. | G4: El programa ejecuta un proceso para seleccionar e incorporar a los integrantes de su cuerpo académico, de acuerdo con los requisitos establecidos institucionalmente pero no se encuentra alineado a la normativa de educación superior, que garantiza la igualdad de oportunidades. | H4: El programa ejecuta un proceso para seleccionar e incorporar a los integrantes de su cuerpo académico, pero no está de acuerdo con los requisitos establecidos institucionalmente ni se encuentra alineado a la normativa de educación superior, que garantiza la igualdad de oportunidades. | I4: El programa no ejecuta un proceso para seleccionar e incorporar a los integrantes de su cuerpo académico.
E5: 2. El programa cuenta con profesores cuyo perfil está respaldado por su formación académica en el campo de conocimiento y que es afín con las asignaturas, cursos, módulos o equivalentes que imparten; en concordancia con la propuesta académica del programa. | F5: El programa cuenta con profesores cuyo perfil está respaldado por su formación académica en el campo de conocimiento y que es afín con las asignaturas, cursos, módulos o equivalentes que imparten; en concordancia con la propuesta académica del programa. | G5: El programa cuenta con profesores cuyo perfil está respaldado por su formación académica en el campo de conocimiento pero no es afín con las asignaturas, cursos, módulos o equivalentes que imparten. | H5: El programa cuenta con profesores cuyo perfil no está respaldado por su formación académica en el campo de conocimiento pero es afín con las asignaturas, cursos, módulos o equivalentes que imparten. | I5: El programa cuenta con profesores cuyo perfil no está respaldado ni por su formación académica en el campo de conocimiento y tampoco es afín con las asignaturas, cursos, módulos o equivalentes que imparten.
E6: 3. El programa cuenta con profesores que tienen experiencia profesional en consonancia con las asignaturas, cursos, módulos o equivalentes que imparten. | F6: Todos los profesores del programa tienen experiencia profesional relacionada a las asignaturas, cursos, módulos o equivalentes que imparten. Esto contribuye al cumplimiento de los objetivos del programa y a la mejora continua. | G6: Todos los profesores del programa tienen experiencia profesional relacionada a las asignaturas, cursos, módulos o equivalentes que imparten. Esto contribuye al cumplimiento de los objetivos del programa, no obstante, no se evidencia que haya contribuido a la mejora continua. | H6: Los profesores del programa tienen experiencia profesional relacionada a las asignaturas, cursos, módulos o equivalentes que imparten. Sin embargo, no se evidencia que esto haya contribuido al cumplimiento de los objetivos del programa, ni a la mejora continua. | I6: Los profesores del programa no tienen experiencia profesional relacionada a las asignaturas, cursos, módulos o equivalentes que imparten.
E7: 4. Los profesores del programa cuentan con experiencia investigativa relacionada con las asignaturas, cursos, módulos o equivalentes que imparten. | F7: Todos los profesores del programa tienen experiencia investigativa relacionada a las asignaturas, cursos, módulos o equivalentes que imparten. Esto contribuye al cumplimiento de los objetivos del programa y a la mejora continua. | G7: Todos los profesores del programa tienen experiencia investigativa relacionada a las asignaturas, cursos, módulos o equivalentes que imparten. Esto contribuye al cumplimiento de los objetivos del programa, no obstante, no se evidencia que haya contribuido a la mejora continua. | H7: Los profesores del programa tienen experiencia investigativa relacionada a las asignaturas, cursos, módulos o equivalentes que imparten. Sin embargo, no se evidencia que esto haya contribuido al cumplimiento de los objetivos del programa, ni a la mejora continua. | I7: Los profesores del programa no tienen experiencia investigativa relacionada a las asignaturas, cursos, módulos o equivalentes que imparten.
E8: 5. El programa distribuye las actividades del cuerpo académico de acuerdo con sus necesidades y el perfil profesional del profesor. | F8: El programa distribuye las actividades del cuerpo académico, considerando sus necesidades individuales y el perfil profesional de cada profesor. La distribución asegura una carga equitativa para cada miembro del cuerpo académico. | G8: El programa distribuye las actividades del cuerpo académico, considerando sus necesidades individuales y el perfil profesional de cada profesor. La distribución no asegura una carga equitativa para cada miembro del cuerpo académico. | H8: El programa distribuye las actividades del cuerpo académico, considerando sus necesidades individuales pero no el perfil profesional de cada profesor. La distribución no asegura una carga equitativa para cada miembro del cuerpo académico. | I8: El programa no distribuye las actividades del cuerpo académico, considerando sus necesidades individuales ni el perfil profesional de cada profesor.
E9: Para el caso de programas de doctorado, además se considera lo siguiente: 6. El programa demuestra que su cuerpo académico ha participado en actividades de docencia, investigación o gestión académica en el marco de redes o proyectos conjuntos con universidades nacionales o extranjeras. | F9: El programa demuestra que su cuerpo académico ha participado en actividades de docencia, investigación o gestión académica en el marco de redes o proyectos conjuntos con universidades nacionales o extranjeras. Se han realizado colaboraciones en producción de alto impacto que fortalecen la calidad y relevancia de las actividades académicas. | G9: El programa demuestra que su cuerpo académico ha participado en actividades de docencia, investigación o gestión académica en el marco de redes o proyectos conjuntos con universidades nacionales o extranjeras. Se han realizado colaboraciones que fortalecen la calidad y relevancia de las actividades académicas. | H9: El programa demuestra que su cuerpo académico ha participado en actividades de docencia, investigación o gestión académica de forma aislada, es decir no se encuentran en el marco de redes o proyectos conjuntos con universidades nacionales o extranjeras. | I9: El programa no demuestra que su cuerpo académico ha participado en actividades de docencia, investigación o gestión académica de forma conjunta con universidades nacionales o extranjeras.
C11: AFINIDAD CON ASIGNATURAS, CURSOS, MÓDULOS O EQUIVALENTES | D11: Estándar para programas de especialización y maestría académica: El programa cuenta con al menos el 80 % de las asignaturas, cursos, módulos o equivalentes afines con la formación académica de los profesores que las imparten. Estándar para programas de doctorado: El programa cuenta con el 100 % de asignaturas, cursos, módulos o equivalentes afines con la formación de doctorado de los profesores que las imparten. | E11: Indicador cuantitativo cuyo cumplimiento se determina mediante el uso de una función de utilidad definida con base en el desempeño de todos los programas de un determinado campo de conocimiento evaluados en un mismo proceso.
C13: PROFESORES A TIEMPO COMPLETO | D13: Estándar para programas de especialización y maestría académica: El programa cuenta con al menos un 50% de profesores a tiempo completo de la institución que están vinculados con el programa, lo que permite el normal desarrollo de su oferta académica y garantiza la continuidad y articulación del posgrado con las funciones sustantivas. Estándar para programas de doctorado: El programa de doctorado cuenta con al menos ocho (8) profesores titulares con dedicación a tiempo completo lo que permite el normal desarrollo de su oferta académica y la actividad investigadora. | E13: Indicador cuantitativo cuyo cumplimiento se determina mediante el uso de una función de utilidad definida con base en el desempeño de todos los programas de un determinado campo de conocimiento evaluados en un mismo proceso.
C15: RELACIÓN DE TUTORIAS POR PROFESOR | D15: Estándar para programas de doctorado: Cada profesor podrá ser tutor de máximo tres (3) tesis doctorales o su equivalente entre tutorías y/o cotutorías de acuerdo con la normativa vigente. | E15: Indicador cuantitativo cuyo cumplimiento se determina mediante el uso de una función de utilidad definida con base en el desempeño de todos los programas de un determinado campo de conocimiento evaluados en un mismo proceso.
B17: GESTIÓN ACADÉMICA | C17: DESARROLLO Y CAPACITACIÓN | D17: La institución cuenta con normativa, procesos o procedimientos para el desarrollo y capacitación integral del cuerpo académico que incluye a los profesores del programa de posgrado. Los profesores tienen acceso a planes de desarrollo y capacitación de acuerdo con las necesidades de cada programa, asignatura, curso, módulo o equivalente, y estos están articulados a la planificación institucional. El programa de posgrado o la instancia institucional correspondiente realiza un seguimiento de las acciones de capacitación y desarrollo del cuerpo académico. | E17: 1. La institución cuenta con normativa, procesos o procedimientos que promueven el desarrollo y capacitación integral de los profesores del programa de posgrado. | F17: La institución cuenta con normativa, procesos y procedimientos que promueven el desarrollo y capacitación integral de los profesores del programa de posgrado. Existen iniciativas definidas que aseguran una formación continua, actualización en las tendencias educativas y fortalecimiento de habilidades pedagógicas y de investigación. | G17: La institución cuenta con normativa, procesos y procedimientos que promueven el desarrollo y capacitación integral de los profesores del programa de posgrado. Sin embargo, no existen iniciativas definidas que aseguran una formación continua, actualización en las tendencias educativas y fortalecimiento de habilidades pedagógicas y de investigación. | H17: La institución cuenta con normativa, procesos y procedimientos que promueven el desarrollo pero no la capacitación integral de los profesores del programa de posgrado. | I17: La institución no cuenta con normativa, procesos y procedimientos que promueven el desarrollo ni la capacitación integral de los profesores del programa de posgrado.
E18: 2. Los profesores del programa de posgrado son informados sobre los procesos específicos de capacitación o actualización profesional de acuerdo con los propósitos del programa, así como de las asignaturas, cursos, módulos o equivalentes que son impartidos por ellos. | F18: Los profesores del programa de posgrado son informados sobre los procesos específicos de capacitación o actualización profesional. Reciben información relacionada a los propósitos del programa, así como a las asignaturas, cursos, módulos o equivalentes que imparten. | G18: Los profesores del programa de posgrado son informados sobre los procesos de capacitación o actualización profesional. Reciben información relacionada a los propósitos del programa pero no a las asignaturas, cursos, módulos o equivalentes que imparten. | H18: Los profesores del programa de posgrado son informados sobre los procesos de capacitación o actualización profesional de manera general. No reciben información relacionada a los propósitos del programa ni las asignaturas, cursos, módulos o equivalentes que imparten. | I18: Los profesores del programa de posgrado no son informados sobre los procesos de capacitación o actualización profesional.
E19: 3. La instancia institucional correspondiente, cuenta con un plan integral de capacitación para el cuerpo académico de posgrado acorde con la oferta académica (investigación, pedagogía y didáctica, tecnopedagogía), y, otras temáticas requeridas de acuerdo con el propósito y objetivos del programa de posgrado. | F19: La instancia institucional correspondiente, cuenta con un plan integral de capacitación para el cuerpo académico de posgrado acorde con la oferta académica (investigación, pedagogía y didáctica, tecnopedagogía), y, otras temáticas requeridas de acuerdo con el propósito y objetivos del programa de posgrado. | G19: La instancia institucional correspondiente, cuenta con un plan integral de capacitación para el cuerpo académico de posgrado acorde con la oferta académica (investigación, pedagogía y didáctica, tecnopedagogía), pero no se encuentra acorde a otras temáticas requeridas ni a los objetivos del programa de posgrado. | H19: La instancia institucional correspondiente, cuenta con un plan integral de capacitación para el cuerpo académico de posgrado pero no se encuentra acorde con la oferta académica (investigación, pedagogía y didáctica, tecnopedagogía), y, otras temáticas requeridas. | I19: La instancia institucional correspondiente, no cuenta con un plan integral de capacitación para el cuerpo académico de posgrado.
E20: 4. El programa o la instancia institucional correspondiente, desarrolla el seguimiento y evaluación al plan de capacitación y establece acciones estratégicas para la mejora continua. | F20: El programa o la instancia institucional correspondiente, desarrolla el seguimiento y evaluación al plan de capacitación y establece acciones estratégicas para la mejora continua. | G20: El programa o la instancia institucional correspondiente, desarrolla el seguimiento y evaluación al plan de capacitación pero no establece acciones estratégicas para la mejora continua. | H20: El programa o la instancia institucional correspondiente, desarrolla el seguimiento pero no la evaluación al plan de capacitación y por lo tanto no establece acciones estratégicas para la mejora continua. | I20: El programa o la instancia institucional correspondiente, no desarrolla el seguimiento ni evaluación al plan de capacitación.
C22: MOVILIDAD ACADÉMICA | D22: El programa o la instancia institucional correspondiente, ha implementado acciones que propician la movilidad docente interna y externa, ya sea de manera presencial o apalancadas en las nuevas tecnologías disponibles. | E22: 1. El programa o la instancia institucional correspondiente, planifica y ejecuta acciones tales como: estancias de investigación, clases espejo, organización de eventos académicos nacionales e internacionales, entre otros, en los que promueven la movilidad del cuerpo académico del programa de posgrado a otras instituciones dentro y fuera del país; y, que aportan al desarrollo del programa. | F22: El programa o la instancia institucional correspondiente, planifica y ejecuta acciones tales como: estancias de investigación, clases espejo, organización de eventos académicos nacionales e internacionales, entre otros, en los que promueven la movilidad del cuerpo académico del programa de posgrado a otras instituciones dentro y fuera del país; y, que aportan al desarrollo del programa. | G22: El programa o la instancia institucional correspondiente, planifica y ejecuta acciones tales como: estancias de investigación, clases espejo, organización de eventos académicos nacionales, entre otros, en los que promueven la movilidad del cuerpo académico del programa de posgrado a otras instituciones únicamente dentro del país; y, que aportan al desarrollo del programa. | H22: El programa o la instancia institucional correspondiente, planifica pero no ejecuta acciones tales como: estancias de investigación, clases espejo, organización de eventos académicos nacionales e internacionales, entre otros. | I22: El programa o la instancia institucional correspondiente, no planifica ni ejecuta acciones tales como: estancias de investigación, clases espejo, organización de eventos académicos nacionales e internacionales, entre otros.
E23: 2. El programa promueve la incorporación de profesores invitados nacionales o internacionales que aportan al desarrollo e integración de las funciones sustantivas. | F23: El programa promueve la incorporación de profesores invitados nacionales o internacionales, aportando al desarrollo e integración de las funciones sustantivas. La participación de estos profesores contribuye de forma integral al enriquecimiento de la formación. | G23: El programa promueve la incorporación de profesores invitados nacionales o internacionales, aportando al desarrollo pero no a la integración de las funciones sustantivas. La participación de estos profesores contribuye de manera específica al desarrollo de alguna de las funciones sustantivas. | H23: El programa promueve la incorporación de profesores invitados nacionales o internacionales, pero estos no aportan al desarrollo ni a la integración de las funciones sustantivas. | I23: El programa no promueve la incorporación de profesores invitados nacionales o internacionales.
E24: 3. El programa o la instancia institucional correspondiente, desarrolla el seguimiento a la movilidad académica y establece planes de mejora continua para los programas de posgrado. | F24: El programa o la instancia institucional correspondiente desarrolla el seguimiento a la movilidad académica y establece planes de mejora continua. El seguimiento es periódico y los planes de mejora están alineados con los objetivos del programa. | G24: El programa o la instancia institucional correspondiente desarrolla el seguimiento a la movilidad académica y establece planes de mejora continua. El seguimiento es periódico, sin embargo, los planes de mejora no están alineados con los objetivos del programa. | H24: El programa o la instancia institucional correspondiente desarrolla el seguimiento a la movilidad académica pero no establece planes de mejora continua. | I24: El programa o la instancia institucional correspondiente no desarrolla el seguimiento a la movilidad académica y por lo tanto no establece planes de mejora continua.
